BEGIN:VCALENDAR
VERSION:2.0
PRODID:SchoolNow
CALSCALE:GREGORIAN
BEGIN:VEVENT
UID:d946e9ea-8f98-11f0-89e9-0affc84c30a9
DTSTAMP:20260424T160528Z
SUMMARY:Track @ Frenchtown
URL;VALUE=URI:https://www.polson.k12.mt.us/polson-high-school/calendar/8611
 957/track-frenchtown
DTSTART;VALUE=DATE:20260402
DTEND;VALUE=DATE:20260403
END:VEVENT
END:VCALENDAR
