BEGIN:VCALENDAR
VERSION:2.0
PRODID:SchoolNow
CALSCALE:GREGORIAN
BEGIN:VEVENT
UID:d946e90e-8f98-11f0-97f8-0affc84c30a9
DTSTAMP:20260424T160528Z
SUMMARY:SB Quad
URL;VALUE=URI:https://www.polson.k12.mt.us/polson-high-school/calendar/8611
 956/sb-quad
DTSTART:20260328T160000Z
DTEND:20260329T000000Z
END:VEVENT
END:VCALENDAR
