BEGIN:VCALENDAR
VERSION:2.0
PRODID:SchoolNow
CALSCALE:GREGORIAN
BEGIN:VEVENT
UID:d946e74c-8f98-11f0-96f0-0affc84c30a9
DTSTAMP:20260424T160528Z
SUMMARY:Baseball vs Hamilton/Eureka
URL;VALUE=URI:https://www.polson.k12.mt.us/polson-high-school/calendar/8611
 954/baseball-vs-hamilton-eureka
DTSTART:20260328T190000Z
DTEND:20260329T010000Z
END:VEVENT
END:VCALENDAR
