BEGIN:VCALENDAR
VERSION:2.0
PRODID:SchoolNow
CALSCALE:GREGORIAN
BEGIN:VEVENT
UID:d946e670-8f98-11f0-8622-0affc84c30a9
DTSTAMP:20260424T160528Z
SUMMARY:Baseball vs Belgrade
URL;VALUE=URI:https://www.polson.k12.mt.us/polson-high-school/calendar/8611
 953/baseball-vs-belgrade
DTSTART:20260327T200000Z
DTEND:20260328T010000Z
END:VEVENT
END:VCALENDAR
