BEGIN:VCALENDAR
VERSION:2.0
PRODID:SchoolNow
CALSCALE:GREGORIAN
BEGIN:VEVENT
UID:d946e594-8f98-11f0-819f-0affc84c30a9
DTSTAMP:20260424T160528Z
SUMMARY:Track @ Corvallis
URL;VALUE=URI:https://www.polson.k12.mt.us/polson-high-school/calendar/8611
 952/track-corvallis
DTSTART;VALUE=DATE:20260328
DTEND;VALUE=DATE:20260329
END:VEVENT
END:VCALENDAR
