BEGIN:VCALENDAR
VERSION:2.0
PRODID:SchoolNow
CALSCALE:GREGORIAN
BEGIN:VEVENT
UID:d946e4ae-8f98-11f0-91ec-0affc84c30a9
DTSTAMP:20260424T160528Z
SUMMARY:TN vs Libby/Ham
URL;VALUE=URI:https://www.polson.k12.mt.us/polson-high-school/calendar/8611
 951/tn-vs-libby-ham
DTSTART:20260327T150000Z
DTEND:20260328T000000Z
END:VEVENT
END:VCALENDAR
