BEGIN:VCALENDAR
VERSION:2.0
PRODID:SchoolNow
CALSCALE:GREGORIAN
BEGIN:VEVENT
UID:d946e206-8f98-11f0-888c-0affc84c30a9
DTSTAMP:20260424T160528Z
SUMMARY:BBB @ Bigfork
LOCATION:Bigfork High School\, 600 Commerce St\, Bigfork\, MT 59911\, USA
URL;VALUE=URI:https://www.polson.k12.mt.us/polson-high-school/calendar/8611
 948/bbb-bigfork
DTSTART:20260228T200000Z
DTEND:20260228T213000Z
END:VEVENT
END:VCALENDAR
