BEGIN:VCALENDAR
VERSION:2.0
PRODID:SchoolNow
CALSCALE:GREGORIAN
BEGIN:VEVENT
UID:d946e120-8f98-11f0-bcfc-0affc84c30a9
DTSTAMP:20260424T160528Z
SUMMARY:GBB vs Ronan
LOCATION:LIND-1-Linderman Gym (1600)
URL;VALUE=URI:https://www.polson.k12.mt.us/polson-high-school/calendar/8611
 947/gbb-vs-ronan
DTSTART:20260227T000000Z
DTEND:20260227T013000Z
END:VEVENT
END:VCALENDAR
