BEGIN:VCALENDAR
VERSION:2.0
PRODID:SchoolNow
CALSCALE:GREGORIAN
BEGIN:VEVENT
UID:d946df68-8f98-11f0-b700-0affc84c30a9
DTSTAMP:20260424T160528Z
SUMMARY:GBB @ Whitefish
LOCATION:Whitefish High School\, 1143 4th St\, Whitefish\, MT 59937\, USA
URL;VALUE=URI:https://www.polson.k12.mt.us/polson-high-school/calendar/8611
 945/gbb-whitefish
DTSTART:20260224T231500Z
DTEND:20260225T034500Z
END:VEVENT
END:VCALENDAR
