BEGIN:VCALENDAR
VERSION:2.0
PRODID:SchoolNow
CALSCALE:GREGORIAN
BEGIN:VEVENT
UID:d946de8c-8f98-11f0-9b6b-0affc84c30a9
DTSTAMP:20260424T160528Z
SUMMARY:BBB vs Whitefish
LOCATION:LIND-1-Linderman Gym (1600)
URL;VALUE=URI:https://www.polson.k12.mt.us/polson-high-school/calendar/8611
 944/bbb-vs-whitefish
DTSTART:20260224T231500Z
DTEND:20260225T034500Z
END:VEVENT
END:VCALENDAR
