BEGIN:VCALENDAR
VERSION:2.0
PRODID:SchoolNow
CALSCALE:GREGORIAN
BEGIN:VEVENT
UID:d946dcc0-8f98-11f0-bdd6-0affc84c30a9
DTSTAMP:20260424T160528Z
SUMMARY:WR @ State
LOCATION:MetraPark - First Interstate Arena\, 308 6th Ave N\, Billings\, MT
  59101\, USA
URL;VALUE=URI:https://www.polson.k12.mt.us/polson-high-school/calendar/8611
 942/wr-state
DTSTART;VALUE=DATE:20260219
DTEND;VALUE=DATE:20260222
END:VEVENT
END:VCALENDAR
