BEGIN:VCALENDAR
VERSION:2.0
PRODID:SchoolNow
CALSCALE:GREGORIAN
BEGIN:VEVENT
UID:d946da0e-8f98-11f0-a569-0affc84c30a9
DTSTAMP:20260424T160528Z
SUMMARY:GBB vs CFalls
LOCATION:LIND-1-Linderman Gym (1600)
URL;VALUE=URI:https://www.polson.k12.mt.us/polson-high-school/calendar/8611
 939/gbb-vs-cfalls
DTSTART:20260210T231500Z
DTEND:20260211T034500Z
END:VEVENT
END:VCALENDAR
