BEGIN:VCALENDAR
VERSION:2.0
PRODID:SchoolNow
CALSCALE:GREGORIAN
BEGIN:VEVENT
UID:d946d932-8f98-11f0-bdd4-0affc84c30a9
DTSTAMP:20260424T160528Z
SUMMARY:BBB @ CFalls
LOCATION:Columbia Falls High School\, 610 13th St W\, Columbia Falls\, MT 5
 9912\, USA
URL;VALUE=URI:https://www.polson.k12.mt.us/polson-high-school/calendar/8611
 938/bbb-cfalls
DTSTART:20260210T231500Z
DTEND:20260211T034500Z
END:VEVENT
END:VCALENDAR
