BEGIN:VCALENDAR
VERSION:2.0
PRODID:SchoolNow
CALSCALE:GREGORIAN
BEGIN:VEVENT
UID:d946d31a-8f98-11f0-a572-0affc84c30a9
DTSTAMP:20260424T221025Z
SUMMARY:BBall vs Browning
LOCATION:PHS-1-PHS Gymnasium (500)\, LIND-1-Linderman Gym (1600)
URL;VALUE=URI:https://www.polson.k12.mt.us/polson-high-school/calendar/8611
 931/bball-vs-browning
DTSTART:20260131T180000Z
DTEND:20260201T003000Z
END:VEVENT
END:VCALENDAR
