BEGIN:VCALENDAR
VERSION:2.0
PRODID:SchoolNow
CALSCALE:GREGORIAN
BEGIN:VEVENT
UID:d946ceb0-8f98-11f0-90ad-0affc84c30a9
DTSTAMP:20260424T221025Z
SUMMARY:BBB @ Whitefish
LOCATION:Whitefish High School\, 1143 4th St\, Whitefish\, MT 59937\, USA
URL;VALUE=URI:https://www.polson.k12.mt.us/polson-high-school/calendar/8611
 926/bbb-whitefish
DTSTART:20260127T231500Z
DTEND:20260128T034500Z
END:VEVENT
END:VCALENDAR
