BEGIN:VCALENDAR
VERSION:2.0
PRODID:SchoolNow
CALSCALE:GREGORIAN
BEGIN:VEVENT
UID:d946c6c2-8f98-11f0-b44f-0affc84c30a9
DTSTAMP:20260424T221025Z
SUMMARY:BBall @ Libby
LOCATION:Libby High School\, Libby\, MT 59923\, USA
URL;VALUE=URI:https://www.polson.k12.mt.us/polson-high-school/calendar/8611
 917/bball-libby
DTSTART:20260117T200000Z
DTEND:20260118T023000Z
END:VEVENT
END:VCALENDAR
