BEGIN:VCALENDAR
VERSION:2.0
PRODID:SchoolNow
CALSCALE:GREGORIAN
BEGIN:VEVENT
UID:d946c5e6-8f98-11f0-a5e0-0affc84c30a9
DTSTAMP:20260424T221025Z
SUMMARY:Bball vs Hamilton
LOCATION:PHS-1-PHS Gymnasium (500)\, LIND-1-Linderman Gym (1600)
URL;VALUE=URI:https://www.polson.k12.mt.us/polson-high-school/calendar/8611
 916/bball-vs-hamilton
DTSTART:20260110T190000Z
DTEND:20260111T010000Z
END:VEVENT
END:VCALENDAR
