BEGIN:VCALENDAR
VERSION:2.0
PRODID:SchoolNow
CALSCALE:GREGORIAN
BEGIN:VEVENT
UID:d946c500-8f98-11f0-ad84-0affc84c30a9
DTSTAMP:20260424T221025Z
SUMMARY:BBall @ Dillon
LOCATION:Beaverhead County High School\, 104 N Pacific St\, Dillon\, MT 597
 25\, USA
URL;VALUE=URI:https://www.polson.k12.mt.us/polson-high-school/calendar/8611
 915/bball-dillon
DTSTART:20260103T190000Z
DTEND:20260104T010000Z
END:VEVENT
END:VCALENDAR
