BEGIN:VCALENDAR
VERSION:2.0
PRODID:SchoolNow
CALSCALE:GREGORIAN
BEGIN:VEVENT
UID:d946c410-8f98-11f0-8cd2-0affc84c30a9
DTSTAMP:20260424T221025Z
SUMMARY:WR @ Ronan
LOCATION:Ronan High School\, 130 Third Ave NW\, Ronan\, MT 59864\, USA
URL;VALUE=URI:https://www.polson.k12.mt.us/polson-high-school/calendar/8611
 914/wr-ronan
DTSTART:20260103T220000Z
DTEND:20260104T010000Z
END:VEVENT
END:VCALENDAR
