BEGIN:VCALENDAR
VERSION:2.0
PRODID:SchoolNow
CALSCALE:GREGORIAN
BEGIN:VEVENT
UID:d946c046-8f98-11f0-95e0-0affc84c30a9
DTSTAMP:20260424T221025Z
SUMMARY:GBB vs Bigfork
LOCATION:LIND-1-Linderman Gym (1600)
URL;VALUE=URI:https://www.polson.k12.mt.us/polson-high-school/calendar/8611
 910/gbb-vs-bigfork
DTSTART:20260113T231500Z
DTEND:20260114T034500Z
END:VEVENT
END:VCALENDAR
