BEGIN:VCALENDAR
VERSION:2.0
PRODID:SchoolNow
CALSCALE:GREGORIAN
BEGIN:VEVENT
UID:d946bf6a-8f98-11f0-83de-0affc84c30a9
DTSTAMP:20260424T221025Z
SUMMARY:S&D @ CFalls
LOCATION:Hamilton High School\, 327 Fairgrounds Rd\, Hamilton\, MT 59840\, 
 USA
URL;VALUE=URI:https://www.polson.k12.mt.us/polson-high-school/calendar/8611
 909/s-d-cfalls
DTSTART;VALUE=DATE:20260109
DTEND;VALUE=DATE:20260111
END:VEVENT
END:VCALENDAR
