BEGIN:VCALENDAR
VERSION:2.0
PRODID:SchoolNow
CALSCALE:GREGORIAN
BEGIN:VEVENT
UID:38d1a676-8f98-11f0-adc2-02b8e2f6956b
DTSTAMP:20251216T154142Z
SUMMARY:Spring Sports First Day
URL;VALUE=URI:https://www.polson.k12.mt.us/polson-high-school/calendar/8611
 870/spring-sports-first-day
DTSTART;VALUE=DATE:20260316
DTEND;VALUE=DATE:20260317
END:VEVENT
END:VCALENDAR
