BEGIN:VCALENDAR
VERSION:2.0
PRODID:SchoolNow
CALSCALE:GREGORIAN
BEGIN:VEVENT
UID:d892c2d0-7d78-11f0-a0b6-0a58a9feac02
DTSTAMP:20260424T221030Z
SUMMARY:PSD #23 School Board Meeting
LOCATION:Polson School District Office
URL;VALUE=URI:https://www.polson.k12.mt.us/polson-high-school/calendar/8523
 753/psd-23-school-board-meeting
DTSTART:20260713T233000Z
DTEND:20260714T003000Z
END:VEVENT
END:VCALENDAR
