BEGIN:VCALENDAR
VERSION:2.0
PRODID:SchoolNow
CALSCALE:GREGORIAN
BEGIN:VEVENT
UID:50b1e348-256f-11f0-8a95-02e8d21fd0b1
DTSTAMP:20251216T154142Z
SUMMARY:Mission Valley Live Community Concert
URL;VALUE=URI:https://www.polson.k12.mt.us/polson-high-school/calendar/8036
 240/mission-valley-live-community-concert
DTSTART:20260424T210000Z
DTEND:20260425T040000Z
END:VEVENT
END:VCALENDAR
