BEGIN:VCALENDAR
VERSION:2.0
PRODID:SchoolNow
CALSCALE:GREGORIAN
BEGIN:VEVENT
UID:50b1e244-256f-11f0-8954-02e8d21fd0b1
DTSTAMP:20251216T154142Z
SUMMARY:Mission Valley Live Community Concert
URL;VALUE=URI:https://www.polson.k12.mt.us/polson-high-school/calendar/8036
 239/mission-valley-live-community-concert
DTSTART:20260320T210000Z
DTEND:20260321T040000Z
END:VEVENT
END:VCALENDAR
