BEGIN:VCALENDAR
VERSION:2.0
PRODID:SchoolNow
CALSCALE:GREGORIAN
BEGIN:VEVENT
UID:c7bd971c-068d-11f0-a488-0efcb72f1141
DTSTAMP:20251216T154142Z
SUMMARY:Youth Sing
LOCATION:PHS-1-PHS Gymnasium (500)\, PHS-1-Auditiorium (750)
URL;VALUE=URI:https://www.polson.k12.mt.us/polson-high-school/calendar/7740
 881/youth-sing
DTSTART:20260227T070000Z
DTEND:20260228T070000Z
END:VEVENT
END:VCALENDAR
