BEGIN:VCALENDAR
VERSION:2.0
PRODID:SchoolNow
CALSCALE:GREGORIAN
BEGIN:VEVENT
UID:75c8cedc-f935-11ef-b627-0e24ec14e0c5
DTSTAMP:20251216T154142Z
SUMMARY:2025 Spree
URL;VALUE=URI:https://www.polson.k12.mt.us/polson-high-school/calendar/7601
 741/2025-spree
DTSTART;VALUE=DATE:20251206
DTEND;VALUE=DATE:20251207
END:VEVENT
END:VCALENDAR
