BEGIN:VCALENDAR
VERSION:2.0
PRODID:SchoolNow
CALSCALE:GREGORIAN
BEGIN:VEVENT
UID:75c8cbd0-f935-11ef-867c-0e24ec14e0c5
DTSTAMP:20251216T154142Z
SUMMARY:2026 Prom
URL;VALUE=URI:https://www.polson.k12.mt.us/polson-high-school/calendar/7601
 740/2026-prom
DTSTART;VALUE=DATE:20260321
DTEND;VALUE=DATE:20260322
END:VEVENT
END:VCALENDAR
