BEGIN:VCALENDAR
VERSION:2.0
PRODID:SchoolNow
CALSCALE:GREGORIAN
BEGIN:VEVENT
UID:47e90aa6-cfd4-11f0-9a01-0affddf38b41
DTSTAMP:20251216T154146Z
SUMMARY:BBall @ Western A Tip Off
LOCATION:Frenchtown K-12 Schools\, MT\, USA
URL;VALUE=URI:https://www.polson.k12.mt.us/polson-high-school/athletics/cal
 endar/8816289/bball-western-a-tip-off
DTSTART;VALUE=DATE:20251212
DTEND;VALUE=DATE:20251214
END:VEVENT
END:VCALENDAR
