BEGIN:VCALENDAR
VERSION:2.0
PRODID:SchoolNow
CALSCALE:GREGORIAN
BEGIN:VEVENT
UID:293632ac-be4d-11f0-a578-0affe415b4ab
DTSTAMP:20251216T154145Z
SUMMARY:XC Awards Banquet
LOCATION:PHS-L-PHS Commons (Cafeteria) (200)
URL;VALUE=URI:https://www.polson.k12.mt.us/polson-high-school/athletics/cal
 endar/8787422/xc-awards-banquet
DTSTART:20251120T010000Z
DTEND:20251120T020000Z
END:VEVENT
END:VCALENDAR
