BEGIN:VCALENDAR
VERSION:2.0
PRODID:SchoolNow
CALSCALE:GREGORIAN
BEGIN:VEVENT
UID:29362cee-be4d-11f0-948d-0affe415b4ab
DTSTAMP:20251216T154146Z
SUMMARY:S&D @ Flathead Invite
URL;VALUE=URI:https://www.polson.k12.mt.us/polson-high-school/athletics/cal
 endar/8787421/s-d-flathead-invite
DTSTART;VALUE=DATE:20251205
DTEND;VALUE=DATE:20251207
END:VEVENT
END:VCALENDAR
