BEGIN:VCALENDAR
VERSION:2.0
PRODID:SchoolNow
CALSCALE:GREGORIAN
BEGIN:VEVENT
UID:4d5e2be0-adf8-11f0-a1f3-026380901c47
DTSTAMP:20251216T154145Z
SUMMARY:Divisional VB
LOCATION:Libby\, MT 59923\, USA
URL;VALUE=URI:https://www.polson.k12.mt.us/polson-high-school/athletics/cal
 endar/8736315/divisional-vb
DTSTART;VALUE=DATE:20251106
DTEND;VALUE=DATE:20251109
END:VEVENT
END:VCALENDAR
