BEGIN:VCALENDAR
VERSION:2.0
PRODID:SchoolNow
CALSCALE:GREGORIAN
BEGIN:VEVENT
UID:fe9bf83a-a7b1-11f0-8374-02f81131d9e9
DTSTAMP:20251216T154146Z
SUMMARY:BSOC vs Park - Playoff Round 1
LOCATION:PHS-1-Stadium (5000)
URL;VALUE=URI:https://www.polson.k12.mt.us/polson-high-school/athletics/cal
 endar/8717287/bsoc-vs-park-playoff-round-1
DTSTART:20251018T220000Z
DTEND:20251019T000000Z
END:VEVENT
END:VCALENDAR
