BEGIN:VCALENDAR
VERSION:2.0
PRODID:SchoolNow
CALSCALE:GREGORIAN
BEGIN:VEVENT
UID:32f6ff22-a482-11f0-96c0-0a58a9feac02
DTSTAMP:20251216T154146Z
SUMMARY:SW @ Missoula Invite
URL;VALUE=URI:https://www.polson.k12.mt.us/polson-high-school/athletics/cal
 endar/8706273/sw-missoula-invite
DTSTART:20260131T170000Z
DTEND:20260131T230000Z
END:VEVENT
END:VCALENDAR
