BEGIN:VCALENDAR
VERSION:2.0
PRODID:SchoolNow
CALSCALE:GREGORIAN
BEGIN:VEVENT
UID:32f6f946-a482-11f0-95d6-0a58a9feac02
DTSTAMP:20251216T154146Z
SUMMARY:SW @ Kalispell/Missoula Meet
URL;VALUE=URI:https://www.polson.k12.mt.us/polson-high-school/athletics/cal
 endar/8706271/sw-kalispell-missoula-meet
DTSTART:20260117T170000Z
DTEND:20260117T230000Z
END:VEVENT
END:VCALENDAR
