BEGIN:VCALENDAR
VERSION:2.0
PRODID:SchoolNow
CALSCALE:GREGORIAN
BEGIN:VEVENT
UID:32f1f46e-a482-11f0-b04c-0a58a9feac02
DTSTAMP:20251216T154145Z
SUMMARY:SW @ Butte Invite
URL;VALUE=URI:https://www.polson.k12.mt.us/polson-high-school/athletics/cal
 endar/8706270/sw-butte-invite
DTSTART:20260110T170000Z
DTEND:20260110T230000Z
END:VEVENT
END:VCALENDAR
