BEGIN:VCALENDAR
VERSION:2.0
PRODID:SchoolNow
CALSCALE:GREGORIAN
BEGIN:VEVENT
UID:32f1f324-a482-11f0-b30a-0a58a9feac02
DTSTAMP:20251216T154146Z
SUMMARY:SW hosting Polson Invite
URL;VALUE=URI:https://www.polson.k12.mt.us/polson-high-school/athletics/cal
 endar/8706269/sw-hosting-polson-invite
DTSTART:20260109T230000Z
DTEND:20260110T010000Z
END:VEVENT
END:VCALENDAR
