BEGIN:VCALENDAR
VERSION:2.0
PRODID:SchoolNow
CALSCALE:GREGORIAN
BEGIN:VEVENT
UID:aa49ed46-9a8c-11f0-afe0-0e9d809b9f27
DTSTAMP:20251216T154146Z
SUMMARY:Elks Hoop Shoot
LOCATION:LIND-1-Linderman Gym (1600)
URL;VALUE=URI:https://www.polson.k12.mt.us/polson-high-school/athletics/cal
 endar/8665177/elks-hoop-shoot
DTSTART:20260117T170000Z
DTEND:20260117T213000Z
END:VEVENT
END:VCALENDAR
