BEGIN:VCALENDAR
VERSION:2.0
PRODID:SchoolNow
CALSCALE:GREGORIAN
BEGIN:VEVENT
UID:15ede428-932e-11f0-bdfd-0a58a9feac02
DTSTAMP:20251216T154146Z
SUMMARY:Winter Sports Parent Meeting
LOCATION:PHS-1-Auditiorium (750)
URL;VALUE=URI:https://www.polson.k12.mt.us/polson-high-school/athletics/cal
 endar/8629298/winter-sports-parent-meeting
DTSTART:20251118T013000Z
DTEND:20251118T023000Z
END:VEVENT
END:VCALENDAR
