BEGIN:VCALENDAR
VERSION:2.0
PRODID:SchoolNow
CALSCALE:GREGORIAN
BEGIN:VEVENT
UID:17ff8b34-9295-11f0-85bf-0affe891abf9
DTSTAMP:20251216T154145Z
SUMMARY:GBB @ Bigfork
LOCATION:Bigfork High School\, 600 Commerce St\, Bigfork\, MT 59911\, USA
URL;VALUE=URI:https://www.polson.k12.mt.us/polson-high-school/athletics/cal
 endar/8626454/gbb-bigfork
DTSTART:20260205T231500Z
DTEND:20260206T034500Z
END:VEVENT
END:VCALENDAR
