BEGIN:VCALENDAR
VERSION:2.0
PRODID:SchoolNow
CALSCALE:GREGORIAN
BEGIN:VEVENT
UID:d9aa0cb4-8f98-11f0-a1d4-0e48ac19f595
DTSTAMP:20251216T154145Z
SUMMARY:TN hosting Divisionals
URL;VALUE=URI:https://www.polson.k12.mt.us/polson-high-school/athletics/cal
 endar/8612119/tn-hosting-divisionals
DTSTART;VALUE=DATE:20260519
DTEND;VALUE=DATE:20260522
END:VEVENT
END:VCALENDAR
