BEGIN:VCALENDAR
VERSION:2.0
PRODID:SchoolNow
CALSCALE:GREGORIAN
BEGIN:VEVENT
UID:d9aa0930-8f98-11f0-8422-0e48ac19f595
DTSTAMP:20251216T154146Z
SUMMARY:SB @ Laverne Combo
URL;VALUE=URI:https://www.polson.k12.mt.us/polson-high-school/athletics/cal
 endar/8612115/sb-laverne-combo
DTSTART;VALUE=DATE:20260515
DTEND;VALUE=DATE:20260517
END:VEVENT
END:VCALENDAR
