BEGIN:VCALENDAR
VERSION:2.0
PRODID:SchoolNow
CALSCALE:GREGORIAN
BEGIN:VEVENT
UID:d9aa0778-8f98-11f0-90f2-0e48ac19f595
DTSTAMP:20251216T154146Z
SUMMARY:SB @ Browning
URL;VALUE=URI:https://www.polson.k12.mt.us/polson-high-school/athletics/cal
 endar/8612113/sb-browning
DTSTART;VALUE=DATE:20260512
DTEND;VALUE=DATE:20260513
END:VEVENT
END:VCALENDAR
