BEGIN:VCALENDAR
VERSION:2.0
PRODID:SchoolNow
CALSCALE:GREGORIAN
BEGIN:VEVENT
UID:d9aa04e4-8f98-11f0-81d4-0e48ac19f595
DTSTAMP:20251216T154145Z
SUMMARY:PMS Track Meet
URL;VALUE=URI:https://www.polson.k12.mt.us/polson-high-school/athletics/cal
 endar/8612110/pms-track-meet
DTSTART;VALUE=DATE:20260508
DTEND;VALUE=DATE:20260509
END:VEVENT
END:VCALENDAR
