BEGIN:VCALENDAR
VERSION:2.0
PRODID:SchoolNow
CALSCALE:GREGORIAN
BEGIN:VEVENT
UID:d9a9fbca-8f98-11f0-bd4f-0e48ac19f595
DTSTAMP:20251216T154146Z
SUMMARY:SB@ CFalls
URL;VALUE=URI:https://www.polson.k12.mt.us/polson-high-school/athletics/cal
 endar/8612100/sb-cfalls
DTSTART;VALUE=DATE:20260423
DTEND;VALUE=DATE:20260424
END:VEVENT
END:VCALENDAR
