BEGIN:VCALENDAR
VERSION:2.0
PRODID:SchoolNow
CALSCALE:GREGORIAN
BEGIN:VEVENT
UID:d9a9f922-8f98-11f0-9791-0e48ac19f595
DTSTAMP:20251216T154145Z
SUMMARY:TN @ Bigfork vs BF/Stevi
URL;VALUE=URI:https://www.polson.k12.mt.us/polson-high-school/athletics/cal
 endar/8612097/tn-bigfork-vs-bf-stevi
DTSTART;VALUE=DATE:20260421
DTEND;VALUE=DATE:20260422
END:VEVENT
END:VCALENDAR
