BEGIN:VCALENDAR
VERSION:2.0
PRODID:SchoolNow
CALSCALE:GREGORIAN
BEGIN:VEVENT
UID:d9a9f684-8f98-11f0-a82d-0e48ac19f595
DTSTAMP:20251216T154146Z
SUMMARY:TN @ Cutbank Tourney
URL;VALUE=URI:https://www.polson.k12.mt.us/polson-high-school/athletics/cal
 endar/8612094/tn-cutbank-tourney
DTSTART;VALUE=DATE:20260417
DTEND;VALUE=DATE:20260419
END:VEVENT
END:VCALENDAR
