BEGIN:VCALENDAR
VERSION:2.0
PRODID:SchoolNow
CALSCALE:GREGORIAN
BEGIN:VEVENT
UID:d9a9f4c2-8f98-11f0-96b3-0e48ac19f595
DTSTAMP:20251216T154146Z
SUMMARY:TN@ CFalls
URL;VALUE=URI:https://www.polson.k12.mt.us/polson-high-school/athletics/cal
 endar/8612092/tn-cfalls
DTSTART;VALUE=DATE:20260416
DTEND;VALUE=DATE:20260417
END:VEVENT
END:VCALENDAR
