BEGIN:VCALENDAR
VERSION:2.0
PRODID:SchoolNow
CALSCALE:GREGORIAN
BEGIN:VEVENT
UID:d9a9f3e6-8f98-11f0-9a53-0e48ac19f595
DTSTAMP:20251216T154146Z
SUMMARY:Track @ Flathead Time Trials
URL;VALUE=URI:https://www.polson.k12.mt.us/polson-high-school/athletics/cal
 endar/8612091/track-flathead-time-trials
DTSTART;VALUE=DATE:20260414
DTEND;VALUE=DATE:20260415
END:VEVENT
END:VCALENDAR
