BEGIN:VCALENDAR
VERSION:2.0
PRODID:SchoolNow
CALSCALE:GREGORIAN
BEGIN:VEVENT
UID:d9a9f22e-8f98-11f0-95c6-0e48ac19f595
DTSTAMP:20251216T154145Z
SUMMARY:TN vs WF/Dillon
URL;VALUE=URI:https://www.polson.k12.mt.us/polson-high-school/athletics/cal
 endar/8612089/tn-vs-wf-dillon
DTSTART;VALUE=DATE:20260411
DTEND;VALUE=DATE:20260412
END:VEVENT
END:VCALENDAR
